Workbook

Sheet Instructions
A1: FINA 455 - Excel Case #1
A2: Fall 2021
A4: The purpose of this Excel case is to get you familiar with using amortization schedules. You will
A5: complete several schedules under different scenarios described below.
A7: Exercise 1: | B7: Let's compare how much interest a borrower would pay under these different terms using
B8: monthly payments for each:
C10: annual interest rate | D10: 0.045
C11: amount borrowed | D11: 340000
B13: a. | C13: term in years | D13: 30
B14: b. | C14: term in years | D14: 20
B15: c. | C15: term in years | D15: 15
B17: Show your work on the Exercise 1 tab.
A19: Exercise 2: | B19: Let's look at what happens when someone has an adjustable rate mortgage. The borrower
B20: will have a fixed rate for the first three years:
C21: annual interest rate | D21: 0.034
C22: amount borrowed | D22: =D11 -> 340000
C23: term in years | D23: 30
B25: a. | C25: Prepare the amortization schedule with the initial terms denoted above
C26: using monthly payments. You can show a complete 30 year amortization
C27: schedule OR just what is necessary to answer the question.
B29: b. and c. | C29: After making payments for 36 months, the interest rate will be reset to 4.25%.
C30: Prepare the amortization schedule for at least the next 12 months with this
C31: new rate (ARMs normally have interest rate resets every year once the first
C32: reset is done)
B34: Show your work on the Exercise 2 tab.
A36: Exercise 3: | B36: Let's look at what happens when someone refinances a mortgage. The borrower
B37: begins with these terms:
C38: annual interest rate | D38: 0.054
C39: amount borrowed | D39: 340000
C40: term in years | D40: 25
B42: a. | C42: Prepare the amortization schedule with the initial terms denoted above
C43: using monthly payments. You can show a complete 25 year amortization
C44: schedule OR just what is necessary to answer the question.
B46: b. and c. | C46: After making payments for 60 months, the borrower can refinance the loan
C47: with a lower interest rate of 4.60%. The lender charges a $2,700 fee and the
C48: borrower decides to refinance the balance owed PLUS the $2,700 fee.
C49: Prepare the amortization schedule for the remaining length of time.
B51: Show your work on the Exercise 3 tab.

Sheet Exercise 1
A1: Exercise 1 | J1: b) 20 year amortization
J2: Principal | L2: 340000
A3: Please show your three different amortization schedules on this tab and | J3: Term | L3: 20
A4: answer the following questions: | J4: Annual rate | L4: 0.045
J5: Number of payments | L5: =L3*12 -> 240
A6: a. | B6: total interest paid with a 30 year amortization | G6: =D397 -> 280182.82 | J6: Monthly rate | L6: =L4/12 -> 0.00375
A7: b. | B7: total interest paid with a 20 year amortization | G7: =M251 -> 176241.89 | J7: Mortgage payment | L7: =PMT(L6,L5,-L2,0) -> 2151.0079
A8: c. | B8: total interest paid with a 15 year amortization | G8: =L443 -> 128175.89
B10: answers should be denoted in the answer boxes | J10: Months | K10: Beginning balance | L10: Payment | M10: Interest | N10: Principal | O10: Ending balance
B11: by cell references to the amort schedules | J11: 1 | K11: =$L$2 -> 340000 | L11: =L7 -> 2151.0079 | M11: =K11*L6 -> 1275 | N11: =L11-M11 -> 876.00788 | O11: =K11-N11 -> 339123.99
J12: 2 | K12: =O11 -> 339123.99 | L12: =$L$7 -> 2151.0079 | M12: =K12*$L$6 -> 1271.715 | N12: =L12-M12 -> 879.29291 | O12: =K12-N12 -> 338244.7
J13: 3 | K13: =O12 -> 338244.7 | L13: =$L$7 -> 2151.0079 | M13: =K13*$L$6 -> 1268.4176 | N13: =L13-M13 -> 882.59026 | O13: =K13-N13 -> 337362.11
J14: 4 | K14: =O13 -> 337362.11 | L14: =$L$7 -> 2151.0079 | M14: =K14*$L$6 -> 1265.1079 | N14: =L14-M14 -> 885.89997 | O14: =K14-N14 -> 336476.21
B15: each correct answer earns 2 points | J15: 5 | K15: =O14 -> 336476.21 | L15: =$L$7 -> 2151.0079 | M15: =K15*$L$6 -> 1261.7858 | N15: =L15-M15 -> 889.2221 | O15: =K15-N15 -> 335586.99
B16: total points available this page = 6 points | J16: 6 | K16: =O15 -> 335586.99 | L16: =$L$7 -> 2151.0079 | M16: =K16*$L$6 -> 1258.4512 | N16: =L16-M16 -> 892.55668 | O16: =K16-N16 -> 334694.43
J17: 7 | K17: =O16 -> 334694.43 | L17: =$L$7 -> 2151.0079 | M17: =K17*$L$6 -> 1255.1041 | N17: =L17-M17 -> 895.90377 | O17: =K17-N17 -> 333798.53
J18: 8 | K18: =O17 -> 333798.53 | L18: =$L$7 -> 2151.0079 | M18: =K18*$L$6 -> 1251.7445 | N18: =L18-M18 -> 899.2634 | O18: =K18-N18 -> 332899.26
A19: Let's compare how much interest a borrower would pay under these different terms using | J19: 9 | K19: =O18 -> 332899.26 | L19: =$L$7 -> 2151.0079 | M19: =K19*$L$6 -> 1248.3722 | N19: =L19-M19 -> 902.63564 | O19: =K19-N19 -> 331996.63
A20: monthly payments for each: | J20: 10 | K20: =O19 -> 331996.63 | L20: =$L$7 -> 2151.0079 | M20: =K20*$L$6 -> 1244.9874 | N20: =L20-M20 -> 906.02053 | O20: =K20-N20 -> 331090.61
J21: 11 | K21: =O20 -> 331090.61 | L21: =$L$7 -> 2151.0079 | M21: =K21*$L$6 -> 1241.5898 | N21: =L21-M21 -> 909.4181 | O21: =K21-N21 -> 330181.19
B22: annual interest rate | C22: =Instructions!D10 -> 0.045 | J22: 12 | K22: =O21 -> 330181.19 | L22: =$L$7 -> 2151.0079 | M22: =K22*$L$6 -> 1238.1795 | N22: =L22-M22 -> 912.82842 | O22: =K22-N22 -> 329268.36
B23: amount borrowed | C23: =Instructions!D11 -> 340000 | J23: 13 | K23: =O22 -> 329268.36 | L23: =$L$7 -> 2151.0079 | M23: =K23*$L$6 -> 1234.7564 | N23: =L23-M23 -> 916.25153 | O23: =K23-N23 -> 328352.11
J24: 14 | K24: =O23 -> 328352.11 | L24: =$L$7 -> 2151.0079 | M24: =K24*$L$6 -> 1231.3204 | N24: =L24-M24 -> 919.68747 | O24: =K24-N24 -> 327432.42
A25: a. | B25: term in years | C25: =Instructions!D13 -> 30 | J25: 15 | K25: =O24 -> 327432.42 | L25: =$L$7 -> 2151.0079 | M25: =K25*$L$6 -> 1227.8716 | N25: =L25-M25 -> 923.1363 | O25: =K25-N25 -> 326509.29
A26: b. | B26: term in years | C26: =Instructions!D14 -> 20 | J26: 16 | K26: =O25 -> 326509.29 | L26: =$L$7 -> 2151.0079 | M26: =K26*$L$6 -> 1224.4098 | N26: =L26-M26 -> 926.59806 | O26: =K26-N26 -> 325582.69
A27: c. | B27: term in years | C27: =Instructions!D15 -> 15 | J27: 17 | K27: =O26 -> 325582.69 | L27: =$L$7 -> 2151.0079 | M27: =K27*$L$6 -> 1220.9351 | N27: =L27-M27 -> 930.0728 | O27: =K27-N27 -> 324652.61
J28: 18 | K28: =O27 -> 324652.61 | L28: =$L$7 -> 2151.0079 | M28: =K28*$L$6 -> 1217.4473 | N28: =L28-M28 -> 933.56058 | O28: =K28-N28 -> 323719.05
A29: principle | C29: 340000 | J29: 19 | K29: =O28 -> 323719.05 | L29: =$L$7 -> 2151.0079 | M29: =K29*$L$6 -> 1213.9465 | N29: =L29-M29 -> 937.06143 | O29: =K29-N29 -> 322781.99
A30: term | C30: 30 | J30: 20 | K30: =O29 -> 322781.99 | L30: =$L$7 -> 2151.0079 | M30: =K30*$L$6 -> 1210.4325 | N30: =L30-M30 -> 940.57541 | O30: =K30-N30 -> 321841.42
A31: annual rate | C31: 0.045 | J31: 21 | K31: =O30 -> 321841.42 | L31: =$L$7 -> 2151.0079 | M31: =K31*$L$6 -> 1206.9053 | N31: =L31-M31 -> 944.10257 | O31: =K31-N31 -> 320897.31
A32: number of payments | C32: =C30*12 -> 360 | J32: 22 | K32: =O31 -> 320897.31 | L32: =$L$7 -> 2151.0079 | M32: =K32*$L$6 -> 1203.3649 | N32: =L32-M32 -> 947.64295 | O32: =K32-N32 -> 319949.67
A33: monthly rate | C33: =C31/12 -> 0.00375 | J33: 23 | K33: =O32 -> 319949.67 | L33: =$L$7 -> 2151.0079 | M33: =K33*$L$6 -> 1199.8113 | N33: =L33-M33 -> 951.19661 | O33: =K33-N33 -> 318998.47
A34: mortgage payment | C34: =PMT(C33,C32,-C29,0) -> 1722.7301 | J34: 24 | K34: =O33 -> 318998.47 | L34: =$L$7 -> 2151.0079 | M34: =K34*$L$6 -> 1196.2443 | N34: =L34-M34 -> 954.7636 | O34: =K34-N34 -> 318043.71
J35: 25 | K35: =O34 -> 318043.71 | L35: =$L$7 -> 2151.0079 | M35: =K35*$L$6 -> 1192.6639 | N35: =L35-M35 -> 958.34396 | O35: =K35-N35 -> 317085.37
A36: Months | B36: Beginning balance | C36: Payment | D36: Interest | E36: Principal | F36: Ending balance | J36: 26 | K36: =O35 -> 317085.37 | L36: =$L$7 -> 2151.0079 | M36: =K36*$L$6 -> 1189.0701 | N36: =L36-M36 -> 961.93775 | O36: =K36-N36 -> 316123.43
A37: 1 | B37: =C29 -> 340000 | C37: =C34 -> 1722.7301 | D37: =C33*B37 -> 1275 | E37: =C37-D37 -> 447.73005 | F37: =B37-E37 -> 339552.27 | J37: 27 | K37: =O36 -> 316123.43 | L37: =$L$7 -> 2151.0079 | M37: =K37*$L$6 -> 1185.4629 | N37: =L37-M37 -> 965.54502 | O37: =K37-N37 -> 315157.88
A38: 2 | B38: =F37 -> 339552.27 | C38: =$C$34 -> 1722.7301 | D38: =B38*$C$33 -> 1273.321 | E38: =C38-D38 -> 449.40904 | F38: =B38-E38 -> 339102.86 | J38: 28 | K38: =O37 -> 315157.88 | L38: =$L$7 -> 2151.0079 | M38: =K38*$L$6 -> 1181.8421 | N38: =L38-M38 -> 969.16581 | O38: =K38-N38 -> 314188.72
A39: 3 | B39: =F38 -> 339102.86 | C39: =$C$34 -> 1722.7301 | D39: =B39*$C$33 -> 1271.6357 | E39: =C39-D39 -> 451.09433 | F39: =B39-E39 -> 338651.77 | J39: 29 | K39: =O38 -> 314188.72 | L39: =$L$7 -> 2151.0079 | M39: =K39*$L$6 -> 1178.2077 | N39: =L39-M39 -> 972.80018 | O39: =K39-N39 -> 313215.92
A40: 4 | B40: =F39 -> 338651.77 | C40: =$C$34 -> 1722.7301 | D40: =B40*$C$33 -> 1269.9441 | E40: =C40-D40 -> 452.78593 | F40: =B40-E40 -> 338198.98 | J40: 30 | K40: =O39 -> 313215.92 | L40: =$L$7 -> 2151.0079 | M40: =K40*$L$6 -> 1174.5597 | N40: =L40-M40 -> 976.44819 | O40: =K40-N40 -> 312239.47
A41: 5 | B41: =F40 -> 338198.98 | C41: =$C$34 -> 1722.7301 | D41: =B41*$C$33 -> 1268.2462 | E41: =C41-D41 -> 454.48388 | F41: =B41-E41 -> 337744.5 | J41: 31 | K41: =O40 -> 312239.47 | L41: =$L$7 -> 2151.0079 | M41: =K41*$L$6 -> 1170.898 | N41: =L41-M41 -> 980.10987 | O41: =K41-N41 -> 311259.36
...

Sheet Exercise 2
A1: Exercise 2 | J1: a)
J2: Principal | K2: 340000
A3: Please show your two different amortization schedules on this tab and | J3: Term | K3: 30
A4: answer the following questions: | J4: Annual rate | K4: 0.034
J5: Number of payments | K5: =K3*12 -> 360
A6: a. | B6: monthly payment initially with 3.40% rate | G6: =K7 -> 1507.8362 | J6: Monthly rate | K6: =K4/12 -> 0.0028333333
A7: b. | B7: balance owed after 36 months | G7: =O45 -> 319394.01 | J7: mortgage payment | K7: =PMT(K6,K5,-K2,0) -> 1507.8362
A8: c. | B8: monthly payment after rate reset to 4.25% | G8: =B41 -> 1658.8109
J9: Month | K9: Beginning balance | L9: Payment | M9: Interest | N9: Principal | O9: Ending balance
B10: answers should be denoted in the answer boxes | J10: 1 | K10: =K2 -> 340000 | L10: =$K$7 -> 1507.8362 | M10: =K10*$K$6 -> 963.33333 | N10: =L10-M10 -> 544.50286 | O10: =K10-N10 -> 339455.5
B11: by cell references to the amort schedules | J11: 2 | K11: =O10 -> 339455.5 | L11: =$K$7 -> 1507.8362 | M11: =K11*$K$6 -> 961.79058 | N11: =L11-M11 -> 546.04562 | O11: =K11-N11 -> 338909.45
J12: 3 | K12: =O11 -> 338909.45 | L12: =$K$7 -> 1507.8362 | M12: =K12*$K$6 -> 960.24345 | N12: =L12-M12 -> 547.59275 | O12: =K12-N12 -> 338361.86
J13: 4 | K13: =O12 -> 338361.86 | L13: =$K$7 -> 1507.8362 | M13: =K13*$K$6 -> 958.69193 | N13: =L13-M13 -> 549.14426 | O13: =K13-N13 -> 337812.71
J14: 5 | K14: =O13 -> 337812.71 | L14: =$K$7 -> 1507.8362 | M14: =K14*$K$6 -> 957.13602 | N14: =L14-M14 -> 550.70017 | O14: =K14-N14 -> 337262.01
B15: each correct answer earns 2 points | J15: 6 | K15: =O14 -> 337262.01 | L15: =$K$7 -> 1507.8362 | M15: =K15*$K$6 -> 955.57571 | N15: =L15-M15 -> 552.26049 | O15: =K15-N15 -> 336709.75
B16: total points available this page = 6 points | J16: 7 | K16: =O15 -> 336709.75 | L16: =$K$7 -> 1507.8362 | M16: =K16*$K$6 -> 954.01097 | N16: =L16-M16 -> 553.82522 | O16: =K16-N16 -> 336155.93
J17: 8 | K17: =O16 -> 336155.93 | L17: =$K$7 -> 1507.8362 | M17: =K17*$K$6 -> 952.4418 | N17: =L17-M17 -> 555.39439 | O17: =K17-N17 -> 335600.53
J18: 9 | K18: =O17 -> 335600.53 | L18: =$K$7 -> 1507.8362 | M18: =K18*$K$6 -> 950.86818 | N18: =L18-M18 -> 556.96801 | O18: =K18-N18 -> 335043.57
A19: Let's look at what happens when someone has an adjustable rate mortgage. The borrower | J19: 10 | K19: =O18 -> 335043.57 | L19: =$K$7 -> 1507.8362 | M19: =K19*$K$6 -> 949.2901 | N19: =L19-M19 -> 558.54609 | O19: =K19-N19 -> 334485.02
A20: will have a fixed rate for the first three years: | J20: 11 | K20: =O19 -> 334485.02 | L20: =$K$7 -> 1507.8362 | M20: =K20*$K$6 -> 947.70756 | N20: =L20-M20 -> 560.12864 | O20: =K20-N20 -> 333924.89
B21: annual interest rate | C21: =Instructions!D21 -> 0.034 | J21: 12 | K21: =O20 -> 333924.89 | L21: =$K$7 -> 1507.8362 | M21: =K21*$K$6 -> 946.12053 | N21: =L21-M21 -> 561.71567 | O21: =K21-N21 -> 333363.18
B22: amount borrowed | C22: =Instructions!D22 -> 340000 | J22: 13 | K22: =O21 -> 333363.18 | L22: =$K$7 -> 1507.8362 | M22: =K22*$K$6 -> 944.529 | N22: =L22-M22 -> 563.30719 | O22: =K22-N22 -> 332799.87
B23: term in years | C23: =Instructions!D23 -> 30 | J23: 14 | K23: =O22 -> 332799.87 | L23: =$K$7 -> 1507.8362 | M23: =K23*$K$6 -> 942.93296 | N23: =L23-M23 -> 564.90323 | O23: =K23-N23 -> 332234.97
J24: 15 | K24: =O23 -> 332234.97 | L24: =$K$7 -> 1507.8362 | M24: =K24*$K$6 -> 941.3324 | N24: =L24-M24 -> 566.50379 | O24: =K24-N24 -> 331668.46
A25: a. | B25: Prepare the amortization schedule with the initial terms denoted above | J25: 16 | K25: =O24 -> 331668.46 | L25: =$K$7 -> 1507.8362 | M25: =K25*$K$6 -> 939.72731 | N25: =L25-M25 -> 568.10888 | O25: =K25-N25 -> 331100.35
B26: using monthly payments. You can show a complete 30 year amortization | J26: 17 | K26: =O25 -> 331100.35 | L26: =$K$7 -> 1507.8362 | M26: =K26*$K$6 -> 938.11767 | N26: =L26-M26 -> 569.71853 | O26: =K26-N26 -> 330530.63
B27: schedule OR just what is necessary to answer the question. | J27: 18 | K27: =O26 -> 330530.63 | L27: =$K$7 -> 1507.8362 | M27: =K27*$K$6 -> 936.50346 | N27: =L27-M27 -> 571.33273 | O27: =K27-N27 -> 329959.3
J28: 19 | K28: =O27 -> 329959.3 | L28: =$K$7 -> 1507.8362 | M28: =K28*$K$6 -> 934.88469 | N28: =L28-M28 -> 572.9515 | O28: =K28-N28 -> 329386.35
A29: b. and c. | B29: After making payments for 36 months, the interest rate will be reset to 4.25%. | J29: 20 | K29: =O28 -> 329386.35 | L29: =$K$7 -> 1507.8362 | M29: =K29*$K$6 -> 933.26132 | N29: =L29-M29 -> 574.57487 | O29: =K29-N29 -> 328811.78
B30: Prepare the amortization schedule for at least the next 12 months with this | J30: 21 | K30: =O29 -> 328811.78 | L30: =$K$7 -> 1507.8362 | M30: =K30*$K$6 -> 931.63336 | N30: =L30-M30 -> 576.20283 | O30: =K30-N30 -> 328235.57
B31: new rate (ARMs normally have interest rate resets every year once the first | J31: 22 | K31: =O30 -> 328235.57 | L31: =$K$7 -> 1507.8362 | M31: =K31*$K$6 -> 930.00079 | N31: =L31-M31 -> 577.8354 | O31: =K31-N31 -> 327657.74
B32: reset is done) | J32: 23 | K32: =O31 -> 327657.74 | L32: =$K$7 -> 1507.8362 | M32: =K32*$K$6 -> 928.36359 | N32: =L32-M32 -> 579.4726 | O32: =K32-N32 -> 327078.26
J33: 24 | K33: =O32 -> 327078.26 | L33: =$K$7 -> 1507.8362 | M33: =K33*$K$6 -> 926.72175 | N33: =L33-M33 -> 581.11444 | O33: =K33-N33 -> 326497.15
A34: b. and c) | J34: 25 | K34: =O33 -> 326497.15 | L34: =$K$7 -> 1507.8362 | M34: =K34*$K$6 -> 925.07526 | N34: =L34-M34 -> 582.76093 | O34: =K34-N34 -> 325914.39
J35: 26 | K35: =O34 -> 325914.39 | L35: =$K$7 -> 1507.8362 | M35: =K35*$K$6 -> 923.4241 | N35: =L35-M35 -> 584.41209 | O35: =K35-N35 -> 325329.98
A36: principal | B36: =K46 -> 319394.01 | J36: 27 | K36: =O35 -> 325329.98 | L36: =$K$7 -> 1507.8362 | M36: =K36*$K$6 -> 921.76827 | N36: =L36-M36 -> 586.06792 | O36: =K36-N36 -> 324743.91
A37: term | B37: 27 | J37: 28 | K37: =O36 -> 324743.91 | L37: =$K$7 -> 1507.8362 | M37: =K37*$K$6 -> 920.10774 | N37: =L37-M37 -> 587.72845 | O37: =K37-N37 -> 324156.18
A38: Annual rate | B38: 0.0425 | J38: 29 | K38: =O37 -> 324156.18 | L38: =$K$7 -> 1507.8362 | M38: =K38*$K$6 -> 918.44251 | N38: =L38-M38 -> 589.39368 | O38: =K38-N38 -> 323566.79
A39: number of payments | B39: =B37*12 -> 324 | J39: 30 | K39: =O38 -> 323566.79 | L39: =$K$7 -> 1507.8362 | M39: =K39*$K$6 -> 916.77256 | N39: =L39-M39 -> 591.06363 | O39: =K39-N39 -> 322975.72
A40: Monthly rate | B40: =B38/12 -> 0.0035416667 | J40: 31 | K40: =O39 -> 322975.72 | L40: =$K$7 -> 1507.8362 | M40: =K40*$K$6 -> 915.09788 | N40: =L40-M40 -> 592.73831 | O40: =K40-N40 -> 322382.98
...

Sheet Exercise 3
A1: Exercise 3 | I1: a) amortization schedule
I2: Principal | J2: 340000
A3: Please show your two different amortization schedules on this tab and | I3: Term | J3: 25
A4: answer the following questions: | I4: Annual rate | J4: 0.054
I5: Number of payments | J5: =J3*12 -> 300
A6: a. | B6: monthly payment initially with 5.40% rate | G6: =J7 -> 2067.6417 | I6: Monthly rate | J6: =J4/12 -> 0.0045
A7: b. | B7: balance owed after 60 months | G7: =J70 -> 303061.47 | I7: Mortgage payments | J7: =PMT(J6,J5,-J2,0) -> 2067.6417
A8: c. | B8: new monthly payment with new rate of 4.60% | G8: =B41 -> 1950.9418
I9: Month | J9: Beginning balance | K9: Payment | L9: Interest | M9: Principal | N9: Ending balance
B10: answers should be denoted in the answer boxes | I10: 1 | J10: =J2 -> 340000 | K10: =$J$7 -> 2067.6417 | L10: =J10*$J$6 -> 1530 | M10: =K10-L10 -> 537.64172 | N10: =J10-M10 -> 339462.36
B11: by cell references to the amort schedules | I11: 2 | J11: =N10 -> 339462.36 | K11: =$J$7 -> 2067.6417 | L11: =J11*$J$6 -> 1527.5806 | M11: =K11-L11 -> 540.06111 | N11: =J11-M11 -> 338922.3
I12: 3 | J12: =N11 -> 338922.3 | K12: =$J$7 -> 2067.6417 | L12: =J12*$J$6 -> 1525.1503 | M12: =K12-L12 -> 542.49138 | N12: =J12-M12 -> 338379.81
I13: 4 | J13: =N12 -> 338379.81 | K13: =$J$7 -> 2067.6417 | L13: =J13*$J$6 -> 1522.7091 | M13: =K13-L13 -> 544.93259 | N13: =J13-M13 -> 337834.87
I14: 5 | J14: =N13 -> 337834.87 | K14: =$J$7 -> 2067.6417 | L14: =J14*$J$6 -> 1520.2569 | M14: =K14-L14 -> 547.38479 | N14: =J14-M14 -> 337287.49
B15: each correct answer earns 2 points | I15: 6 | J15: =N14 -> 337287.49 | K15: =$J$7 -> 2067.6417 | L15: =J15*$J$6 -> 1517.7937 | M15: =K15-L15 -> 549.84802 | N15: =J15-M15 -> 336737.64
B16: total points available this page = 6 points | I16: 7 | J16: =N15 -> 336737.64 | K16: =$J$7 -> 2067.6417 | L16: =J16*$J$6 -> 1515.3194 | M16: =K16-L16 -> 552.32234 | N16: =J16-M16 -> 336185.32
I17: 8 | J17: =N16 -> 336185.32 | K17: =$J$7 -> 2067.6417 | L17: =J17*$J$6 -> 1512.8339 | M17: =K17-L17 -> 554.80779 | N17: =J17-M17 -> 335630.51
I18: 9 | J18: =N17 -> 335630.51 | K18: =$J$7 -> 2067.6417 | L18: =J18*$J$6 -> 1510.3373 | M18: =K18-L18 -> 557.30442 | N18: =J18-M18 -> 335073.21
A19: Let's look at what happens when someone refinances a mortgage. The borrower | I19: 10 | J19: =N18 -> 335073.21 | K19: =$J$7 -> 2067.6417 | L19: =J19*$J$6 -> 1507.8294 | M19: =K19-L19 -> 559.81229 | N19: =J19-M19 -> 334513.39
A20: begins with these terms: | I20: 11 | J20: =N19 -> 334513.39 | K20: =$J$7 -> 2067.6417 | L20: =J20*$J$6 -> 1505.3103 | M20: =K20-L20 -> 562.33145 | N20: =J20-M20 -> 333951.06
B21: annual interest rate | C21: =Instructions!D38 -> 0.054 | I21: 12 | J21: =N20 -> 333951.06 | K21: =$J$7 -> 2067.6417 | L21: =J21*$J$6 -> 1502.7798 | M21: =K21-L21 -> 564.86194 | N21: =J21-M21 -> 333386.2
B22: amount borrowed | C22: =Instructions!D39 -> 340000 | I22: 13 | J22: =N21 -> 333386.2 | K22: =$J$7 -> 2067.6417 | L22: =J22*$J$6 -> 1500.2379 | M22: =K22-L22 -> 567.40382 | N22: =J22-M22 -> 332818.8
B23: term in years | C23: =Instructions!D40 -> 25 | I23: 14 | J23: =N22 -> 332818.8 | K23: =$J$7 -> 2067.6417 | L23: =J23*$J$6 -> 1497.6846 | M23: =K23-L23 -> 569.95714 | N23: =J23-M23 -> 332248.84
I24: 15 | J24: =N23 -> 332248.84 | K24: =$J$7 -> 2067.6417 | L24: =J24*$J$6 -> 1495.1198 | M24: =K24-L24 -> 572.52194 | N24: =J24-M24 -> 331676.32
A25: a. | B25: Prepare the amortization schedule with the initial terms denoted above | I25: 16 | J25: =N24 -> 331676.32 | K25: =$J$7 -> 2067.6417 | L25: =J25*$J$6 -> 1492.5434 | M25: =K25-L25 -> 575.09829 | N25: =J25-M25 -> 331101.22
B26: using monthly payments. You can show a complete 25 year amortization | I26: 17 | J26: =N25 -> 331101.22 | K26: =$J$7 -> 2067.6417 | L26: =J26*$J$6 -> 1489.9555 | M26: =K26-L26 -> 577.68623 | N26: =J26-M26 -> 330523.53
B27: schedule OR just what is necessary to answer the question. | I27: 18 | J27: =N26 -> 330523.53 | K27: =$J$7 -> 2067.6417 | L27: =J27*$J$6 -> 1487.3559 | M27: =K27-L27 -> 580.28582 | N27: =J27-M27 -> 329943.25
I28: 19 | J28: =N27 -> 329943.25 | K28: =$J$7 -> 2067.6417 | L28: =J28*$J$6 -> 1484.7446 | M28: =K28-L28 -> 582.89711 | N28: =J28-M28 -> 329360.35
A29: b. and c. | B29: After making payments for 60 months, the borrower can refinance the loan | I29: 20 | J29: =N28 -> 329360.35 | K29: =$J$7 -> 2067.6417 | L29: =J29*$J$6 -> 1482.1216 | M29: =K29-L29 -> 585.52015 | N29: =J29-M29 -> 328774.83
B30: with a lower interest rate of 4.60%. The lender charges a $2,700 fee and the | I30: 21 | J30: =N29 -> 328774.83 | K30: =$J$7 -> 2067.6417 | L30: =J30*$J$6 -> 1479.4867 | M30: =K30-L30 -> 588.15499 | N30: =J30-M30 -> 328186.67
B31: borrower decides to refinance the balance owed PLUS the $2,700 fee. | I31: 22 | J31: =N30 -> 328186.67 | K31: =$J$7 -> 2067.6417 | L31: =J31*$J$6 -> 1476.84 | M31: =K31-L31 -> 590.80168 | N31: =J31-M31 -> 327595.87
B32: Prepare the amortization schedule for the remaining length of time. | I32: 23 | J32: =N31 -> 327595.87 | K32: =$J$7 -> 2067.6417 | L32: =J32*$J$6 -> 1474.1814 | M32: =K32-L32 -> 593.46029 | N32: =J32-M32 -> 327002.41
I33: 24 | J33: =N32 -> 327002.41 | K33: =$J$7 -> 2067.6417 | L33: =J33*$J$6 -> 1471.5109 | M33: =K33-L33 -> 596.13086 | N33: =J33-M33 -> 326406.28
A34: b.and c. | I34: 25 | J34: =N33 -> 326406.28 | K34: =$J$7 -> 2067.6417 | L34: =J34*$J$6 -> 1468.8283 | M34: =K34-L34 -> 598.81345 | N34: =J34-M34 -> 325807.47
I35: 26 | J35: =N34 -> 325807.47 | K35: =$J$7 -> 2067.6417 | L35: =J35*$J$6 -> 1466.1336 | M35: =K35-L35 -> 601.50811 | N35: =J35-M35 -> 325205.96
A36: Principal | B36: =J70+2700 -> 305761.47 | I36: 27 | J36: =N35 -> 325205.96 | K36: =$J$7 -> 2067.6417 | L36: =J36*$J$6 -> 1463.4268 | M36: =K36-L36 -> 604.2149 | N36: =J36-M36 -> 324601.75
A37: Term | B37: 20 | I37: 28 | J37: =N36 -> 324601.75 | K37: =$J$7 -> 2067.6417 | L37: =J37*$J$6 -> 1460.7079 | M37: =K37-L37 -> 606.93386 | N37: =J37-M37 -> 323994.81
A38: Annual rate | B38: 0.046 | I38: 29 | J38: =N37 -> 323994.81 | K38: =$J$7 -> 2067.6417 | L38: =J38*$J$6 -> 1457.9767 | M38: =K38-L38 -> 609.66507 | N38: =J38-M38 -> 323385.15
A39: Number of payments | B39: 240 | I39: 30 | J39: =N38 -> 323385.15 | K39: =$J$7 -> 2067.6417 | L39: =J39*$J$6 -> 1455.2332 | M39: =K39-L39 -> 612.40856 | N39: =J39-M39 -> 322772.74
A40: Monthly rate | B40: =B38/12 -> 0.0038333333 | I40: 31 | J40: =N39 -> 322772.74 | K40: =$J$7 -> 2067.6417 | L40: =J40*$J$6 -> 1452.4773 | M40: =K40-L40 -> 615.1644 | N40: =J40-M40 -> 322157.57
...
